Package: ERSSA Version: 1.25.0 Command: /Library/Frameworks/R.framework/Resources/bin/R CMD build --keep-empty-dirs --no-resave-data ERSSA StartedAt: 2025-02-03 16:43:47 -0500 (Mon, 03 Feb 2025) EndedAt: 2025-02-03 16:44:36 -0500 (Mon, 03 Feb 2025) EllapsedTime: 49.2 seconds RetCode: 0 Status: OK PackageFile: ERSSA_1.25.0.tar.gz PackageFileSize: 2.679 MiB