Package: ERSSA Version: 1.25.0 Command: /home/biocbuild/bbs-3.21-bioc/R/bin/R CMD INSTALL ERSSA StartedAt: 2025-02-03 15:40:41 -0500 (Mon, 03 Feb 2025) EndedAt: 2025-02-03 15:41:07 -0500 (Mon, 03 Feb 2025) EllapsedTime: 26.1 seconds RetCode: 0 Status: OK