Package: ERSSA Version: 1.25.0 Command: E:\biocbuild\bbs-3.21-bioc\R\bin\R.exe CMD check --no-multiarch --install=check:ERSSA.install-out.txt --library=E:\biocbuild\bbs-3.21-bioc\R\library --no-vignettes --timings ERSSA_1.25.0.tar.gz StartedAt: 2025-02-10 00:56:40 -0500 (Mon, 10 Feb 2025) EndedAt: 2025-02-10 01:02:24 -0500 (Mon, 10 Feb 2025) EllapsedTime: 343.7 seconds RetCode: 0 Status: OK CheckDir: ERSSA.Rcheck Warnings: 0