Package: ERSSA Version: 1.25.0 Command: E:\biocbuild\bbs-3.21-bioc\R\bin\R.exe CMD INSTALL ERSSA StartedAt: 2025-02-09 16:13:27 -0500 (Sun, 09 Feb 2025) EndedAt: 2025-02-09 16:14:06 -0500 (Sun, 09 Feb 2025) EllapsedTime: 38.3 seconds RetCode: 0 Status: OK