Package: EnMCB Version: 1.19.0 Command: rm -rf EnMCB.buildbin-libdir && mkdir EnMCB.buildbin-libdir && /Users/biocbuild/BBS/utils/build-universal.sh EnMCB_1.19.0.tar.gz /Library/Frameworks/R.framework/Resources/bin/R EnMCB.buildbin-libdir StartedAt: 2025-02-09 22:13:18 -0500 (Sun, 09 Feb 2025) EndedAt: 2025-02-09 22:13:24 -0500 (Sun, 09 Feb 2025) EllapsedTime: 6.1 seconds RetCode: 0 Status: OK PackageFile: EnMCB_1.19.0.tgz PackageFileSize: 5.082 MiB