Package: EnMCB Version: 1.19.0 Command: /Library/Frameworks/R.framework/Resources/bin/R CMD build --keep-empty-dirs --no-resave-data EnMCB StartedAt: 2025-02-09 16:13:29 -0500 (Sun, 09 Feb 2025) EndedAt: 2025-02-09 16:13:48 -0500 (Sun, 09 Feb 2025) EllapsedTime: 19.2 seconds RetCode: 0 Status: OK PackageFile: EnMCB_1.19.0.tar.gz PackageFileSize: 4.929 MiB