Package: EnMCB Version: 1.19.0 Command: /Library/Frameworks/R.framework/Resources/bin/R CMD check --install=check:EnMCB.install-out.txt --library=/Library/Frameworks/R.framework/Resources/library --no-vignettes --timings EnMCB_1.19.0.tar.gz StartedAt: 2025-02-09 19:05:02 -0500 (Sun, 09 Feb 2025) EndedAt: 2025-02-09 19:06:08 -0500 (Sun, 09 Feb 2025) EllapsedTime: 65.8 seconds RetCode: 0 Status: OK CheckDir: EnMCB.Rcheck Warnings: 0