Package: EnMCB Version: 1.19.0 Command: rm -rf EnMCB.buildbin-libdir && mkdir EnMCB.buildbin-libdir && /Users/biocbuild/BBS/utils/build-universal.sh EnMCB_1.19.0.tar.gz /Library/Frameworks/R.framework/Resources/bin/R EnMCB.buildbin-libdir StartedAt: 2025-02-10 00:52:03 -0500 (Mon, 10 Feb 2025) EndedAt: 2025-02-10 00:52:21 -0500 (Mon, 10 Feb 2025) EllapsedTime: 18.4 seconds RetCode: 0 Status: OK PackageFile: EnMCB_1.19.0.tgz PackageFileSize: 5.081 MiB