Package: EnMCB Version: 1.19.0 Command: /Library/Frameworks/R.framework/Resources/bin/R CMD build --keep-empty-dirs --no-resave-data EnMCB StartedAt: 2025-02-12 16:37:16 -0500 (Wed, 12 Feb 2025) EndedAt: 2025-02-12 16:38:03 -0500 (Wed, 12 Feb 2025) EllapsedTime: 46.9 seconds RetCode: 0 Status: OK PackageFile: EnMCB_1.19.0.tar.gz PackageFileSize: 4.929 MiB