Package: EnMCB Version: 1.19.0 Command: chmod a+r EnMCB -R && E:\biocbuild\bbs-3.21-bioc\R\bin\R.exe CMD build --keep-empty-dirs --no-resave-data EnMCB StartedAt: 2025-02-09 18:31:23 -0500 (Sun, 09 Feb 2025) EndedAt: 2025-02-09 18:32:13 -0500 (Sun, 09 Feb 2025) EllapsedTime: 50.6 seconds RetCode: 0 Status: OK PackageFile: EnMCB_1.19.0.tar.gz PackageFileSize: 4.929 MiB