Package: EnhancedVolcano Version: 1.25.0 Command: /Library/Frameworks/R.framework/Resources/bin/R CMD build --keep-empty-dirs --no-resave-data EnhancedVolcano StartedAt: 2025-02-09 16:13:26 -0500 (Sun, 09 Feb 2025) EndedAt: 2025-02-09 16:13:55 -0500 (Sun, 09 Feb 2025) EllapsedTime: 28.3 seconds RetCode: 1 Status: ERROR PackageFile: None PackageFileSize: NA