Package: EnhancedVolcano Version: 1.25.0 Command: /Library/Frameworks/R.framework/Resources/bin/R CMD INSTALL EnhancedVolcano StartedAt: 2025-02-09 15:06:41 -0500 (Sun, 09 Feb 2025) EndedAt: 2025-02-09 15:06:43 -0500 (Sun, 09 Feb 2025) EllapsedTime: 2.3 seconds RetCode: 0 Status: OK