Package: EnhancedVolcano Version: 1.25.0 Command: /Library/Frameworks/R.framework/Resources/bin/R CMD build --keep-empty-dirs --no-resave-data EnhancedVolcano StartedAt: 2025-02-09 16:39:14 -0500 (Sun, 09 Feb 2025) EndedAt: 2025-02-09 16:40:27 -0500 (Sun, 09 Feb 2025) EllapsedTime: 73.1 seconds RetCode: 1 Status: ERROR PackageFile: None PackageFileSize: NA