Package: EnhancedVolcano Version: 1.25.0 Command: /home/biocbuild/bbs-3.21-bioc/R/bin/R CMD INSTALL EnhancedVolcano StartedAt: 2025-02-09 15:08:14 -0500 (Sun, 09 Feb 2025) EndedAt: 2025-02-09 15:08:24 -0500 (Sun, 09 Feb 2025) EllapsedTime: 9.9 seconds RetCode: 0 Status: OK