Package: EnhancedVolcano Version: 1.25.0 Command: chmod a+r EnhancedVolcano -R && E:\biocbuild\bbs-3.21-bioc\R\bin\R.exe CMD build --keep-empty-dirs --no-resave-data EnhancedVolcano StartedAt: 2025-02-09 18:31:14 -0500 (Sun, 09 Feb 2025) EndedAt: 2025-02-09 18:33:36 -0500 (Sun, 09 Feb 2025) EllapsedTime: 141.8 seconds RetCode: 1 Status: ERROR PackageFile: None PackageFileSize: NA