Package: EnrichDO Version: 1.1.1 Maintainer: Hongyu Fu MaintainerEmail: 2287531995 at qq.com git_url: https://git.bioconductor.org/packages/EnrichDO git_branch: devel git_last_commit: ef3d0ef git_last_commit_date: 2024-11-27 22:59:18 -0500 (Wed, 27 Nov 2024)