Package: EnrichDO Version: 1.1.1 Command: /Library/Frameworks/R.framework/Resources/bin/R CMD check --install=check:EnrichDO.install-out.txt --library=/Library/Frameworks/R.framework/Resources/library --no-vignettes --timings EnrichDO_1.1.1.tar.gz StartedAt: 2025-02-12 19:09:09 -0500 (Wed, 12 Feb 2025) EndedAt: 2025-02-12 19:11:34 -0500 (Wed, 12 Feb 2025) EllapsedTime: 144.7 seconds RetCode: 0 Status: OK CheckDir: EnrichDO.Rcheck Warnings: 0