Package: EnrichDO Version: 1.1.1 Command: rm -rf EnrichDO.buildbin-libdir && mkdir EnrichDO.buildbin-libdir && /Users/biocbuild/BBS/utils/build-universal.sh EnrichDO_1.1.1.tar.gz /Library/Frameworks/R.framework/Resources/bin/R EnrichDO.buildbin-libdir StartedAt: 2025-02-13 00:35:22 -0500 (Thu, 13 Feb 2025) EndedAt: 2025-02-13 00:36:03 -0500 (Thu, 13 Feb 2025) EllapsedTime: 40.7 seconds RetCode: 0 Status: OK PackageFile: EnrichDO_1.1.1.tgz PackageFileSize: 3.623 MiB