Package: EnrichDO Version: 1.1.1 Command: /Library/Frameworks/R.framework/Resources/bin/R CMD build --keep-empty-dirs --no-resave-data EnrichDO StartedAt: 2025-02-09 16:39:29 -0500 (Sun, 09 Feb 2025) EndedAt: 2025-02-09 16:41:13 -0500 (Sun, 09 Feb 2025) EllapsedTime: 103.9 seconds RetCode: 0 Status: OK PackageFile: EnrichDO_1.1.1.tar.gz PackageFileSize: 2.561 MiB