Package: EnrichDO Version: 1.1.1 Command: /Library/Frameworks/R.framework/Resources/bin/R CMD INSTALL EnrichDO StartedAt: 2025-02-09 15:34:04 -0500 (Sun, 09 Feb 2025) EndedAt: 2025-02-09 15:34:43 -0500 (Sun, 09 Feb 2025) EllapsedTime: 38.7 seconds RetCode: 0 Status: OK