Package: EnrichDO Version: 1.1.1 Command: /home/biocbuild/bbs-3.21-bioc/R/bin/R CMD check --install=check:EnrichDO.install-out.txt --library=/home/biocbuild/bbs-3.21-bioc/R/site-library --timings EnrichDO_1.1.1.tar.gz StartedAt: 2025-02-09 22:02:17 -0500 (Sun, 09 Feb 2025) EndedAt: 2025-02-09 22:09:49 -0500 (Sun, 09 Feb 2025) EllapsedTime: 452.5 seconds RetCode: 0 Status: OK CheckDir: EnrichDO.Rcheck Warnings: 0