Package: EnrichedHeatmap Version: 1.37.0 Command: rm -rf EnrichedHeatmap.buildbin-libdir && mkdir EnrichedHeatmap.buildbin-libdir && /Users/biocbuild/BBS/utils/build-universal.sh EnrichedHeatmap_1.37.0.tar.gz /Library/Frameworks/R.framework/Resources/bin/R EnrichedHeatmap.buildbin-libdir StartedAt: 2025-02-09 22:13:20 -0500 (Sun, 09 Feb 2025) EndedAt: 2025-02-09 22:13:29 -0500 (Sun, 09 Feb 2025) EllapsedTime: 9.2 seconds RetCode: 0 Status: OK PackageFile: EnrichedHeatmap_1.37.0.tgz PackageFileSize: 12 MiB