Package: EnrichedHeatmap Version: 1.37.0 Command: /Library/Frameworks/R.framework/Resources/bin/R CMD build --keep-empty-dirs --no-resave-data EnrichedHeatmap StartedAt: 2025-02-09 16:13:55 -0500 (Sun, 09 Feb 2025) EndedAt: 2025-02-09 16:16:06 -0500 (Sun, 09 Feb 2025) EllapsedTime: 131.3 seconds RetCode: 0 Status: OK PackageFile: EnrichedHeatmap_1.37.0.tar.gz PackageFileSize: 13.16 MiB