Package: EnrichedHeatmap Version: 1.37.0 Command: /Library/Frameworks/R.framework/Resources/bin/R CMD INSTALL EnrichedHeatmap StartedAt: 2025-02-09 15:13:26 -0500 (Sun, 09 Feb 2025) EndedAt: 2025-02-09 15:13:33 -0500 (Sun, 09 Feb 2025) EllapsedTime: 6.9 seconds RetCode: 0 Status: OK