Package: EnrichedHeatmap Version: 1.37.0 Command: /home/biocbuild/R/R/bin/R CMD build --keep-empty-dirs --no-resave-data EnrichedHeatmap StartedAt: 2025-01-28 22:40:51 -0000 (Tue, 28 Jan 2025) EndedAt: 2025-01-28 22:48:57 -0000 (Tue, 28 Jan 2025) EllapsedTime: 486.2 seconds RetCode: 0 Status: OK PackageFile: EnrichedHeatmap_1.37.0.tar.gz PackageFileSize: 9.67 MiB