Package: EnrichedHeatmap Version: 1.37.0 Command: rm -rf EnrichedHeatmap.buildbin-libdir && mkdir EnrichedHeatmap.buildbin-libdir && /Users/biocbuild/BBS/utils/build-universal.sh EnrichedHeatmap_1.37.0.tar.gz /Library/Frameworks/R.framework/Resources/bin/R EnrichedHeatmap.buildbin-libdir StartedAt: 2025-02-10 00:52:07 -0500 (Mon, 10 Feb 2025) EndedAt: 2025-02-10 00:52:37 -0500 (Mon, 10 Feb 2025) EllapsedTime: 30.1 seconds RetCode: 0 Status: OK PackageFile: EnrichedHeatmap_1.37.0.tgz PackageFileSize: 11.99 MiB