Package: EnrichedHeatmap Version: 1.37.0 Command: /Library/Frameworks/R.framework/Resources/bin/R CMD INSTALL EnrichedHeatmap StartedAt: 2025-02-09 15:19:01 -0500 (Sun, 09 Feb 2025) EndedAt: 2025-02-09 15:19:25 -0500 (Sun, 09 Feb 2025) EllapsedTime: 24.8 seconds RetCode: 0 Status: OK