Package: EnrichedHeatmap Version: 1.37.0 Command: /home/biocbuild/bbs-3.21-bioc/R/bin/R CMD check --install=check:EnrichedHeatmap.install-out.txt --library=/home/biocbuild/bbs-3.21-bioc/R/site-library --timings EnrichedHeatmap_1.37.0.tar.gz StartedAt: 2025-02-04 22:01:22 -0500 (Tue, 04 Feb 2025) EndedAt: 2025-02-04 22:09:25 -0500 (Tue, 04 Feb 2025) EllapsedTime: 483.6 seconds RetCode: 0 Status: OK CheckDir: EnrichedHeatmap.Rcheck Warnings: 0