Package: EnrichmentBrowser Version: 2.37.0 Command: /Library/Frameworks/R.framework/Resources/bin/R CMD build --keep-empty-dirs --no-resave-data EnrichmentBrowser StartedAt: 2025-02-03 16:50:47 -0500 (Mon, 03 Feb 2025) EndedAt: 2025-02-03 16:51:43 -0500 (Mon, 03 Feb 2025) EllapsedTime: 55.6 seconds RetCode: 0 Status: OK PackageFile: EnrichmentBrowser_2.37.0.tar.gz PackageFileSize: 1.662 MiB