Package: EnrichmentBrowser Version: 2.37.0 Command: /home/biocbuild/R/R/bin/R CMD check --install=check:EnrichmentBrowser.install-out.txt --library=/home/biocbuild/R/R/site-library --no-vignettes --timings EnrichmentBrowser_2.37.0.tar.gz StartedAt: 2025-01-28 10:16:52 -0000 (Tue, 28 Jan 2025) EndedAt: 2025-01-28 10:36:17 -0000 (Tue, 28 Jan 2025) EllapsedTime: 1164.3 seconds RetCode: 0 Status: OK CheckDir: EnrichmentBrowser.Rcheck Warnings: 0