Package: EnrichmentBrowser Version: 2.37.0 Command: /home/biocbuild/R/R/bin/R CMD INSTALL EnrichmentBrowser StartedAt: 2025-01-29 19:53:53 -0000 (Wed, 29 Jan 2025) EndedAt: 2025-01-29 19:54:38 -0000 (Wed, 29 Jan 2025) EllapsedTime: 45.1 seconds RetCode: 0 Status: OK