Package: EnrichmentBrowser Version: 2.37.0 Command: /Library/Frameworks/R.framework/Resources/bin/R CMD build --keep-empty-dirs --no-resave-data EnrichmentBrowser StartedAt: 2025-02-04 16:36:28 -0500 (Tue, 04 Feb 2025) EndedAt: 2025-02-04 16:38:48 -0500 (Tue, 04 Feb 2025) EllapsedTime: 139.2 seconds RetCode: 0 Status: OK PackageFile: EnrichmentBrowser_2.37.0.tar.gz PackageFileSize: 1.661 MiB