Package: EnrichmentBrowser Version: 2.37.0 Command: /Library/Frameworks/R.framework/Resources/bin/R CMD INSTALL EnrichmentBrowser StartedAt: 2025-02-04 15:19:04 -0500 (Tue, 04 Feb 2025) EndedAt: 2025-02-04 15:19:48 -0500 (Tue, 04 Feb 2025) EllapsedTime: 43.9 seconds RetCode: 0 Status: OK