Package: EnrichmentBrowser Version: 2.37.0 Command: /home/biocbuild/bbs-3.21-bioc/R/bin/R CMD build --keep-empty-dirs --no-resave-data EnrichmentBrowser StartedAt: 2025-02-09 17:07:30 -0500 (Sun, 09 Feb 2025) EndedAt: 2025-02-09 17:09:27 -0500 (Sun, 09 Feb 2025) EllapsedTime: 117.1 seconds RetCode: 0 Status: OK PackageFile: EnrichmentBrowser_2.37.0.tar.gz PackageFileSize: 1.314 MiB