Package: EnrichmentBrowser Version: 2.37.0 Command: /home/biocbuild/bbs-3.21-bioc/R/bin/R CMD check --install=check:EnrichmentBrowser.install-out.txt --library=/home/biocbuild/bbs-3.21-bioc/R/site-library --timings EnrichmentBrowser_2.37.0.tar.gz StartedAt: 2025-02-09 22:02:39 -0500 (Sun, 09 Feb 2025) EndedAt: 2025-02-09 22:17:44 -0500 (Sun, 09 Feb 2025) EllapsedTime: 905.2 seconds RetCode: 0 Status: OK CheckDir: EnrichmentBrowser.Rcheck Warnings: 0