Package: EnrichmentBrowser Version: 2.37.0 Command: chmod a+r EnrichmentBrowser -R && E:\biocbuild\bbs-3.21-bioc\R\bin\R.exe CMD build --keep-empty-dirs --no-resave-data EnrichmentBrowser StartedAt: 2025-02-09 18:31:56 -0500 (Sun, 09 Feb 2025) EndedAt: 2025-02-09 18:34:25 -0500 (Sun, 09 Feb 2025) EllapsedTime: 148.9 seconds RetCode: 0 Status: OK PackageFile: EnrichmentBrowser_2.37.0.tar.gz PackageFileSize: 1.264 MiB