Package: EnrichmentBrowser Version: 2.37.0 Command: E:\biocbuild\bbs-3.21-bioc\R\bin\R.exe CMD INSTALL EnrichmentBrowser StartedAt: 2025-02-04 16:03:34 -0500 (Tue, 04 Feb 2025) EndedAt: 2025-02-04 16:04:36 -0500 (Tue, 04 Feb 2025) EllapsedTime: 61.8 seconds RetCode: 0 Status: OK