Package: EpiCompare Version: 1.11.2 Command: /Library/Frameworks/R.framework/Resources/bin/R CMD INSTALL EpiCompare StartedAt: 2025-02-12 15:20:21 -0500 (Wed, 12 Feb 2025) EndedAt: 2025-02-12 15:20:22 -0500 (Wed, 12 Feb 2025) EllapsedTime: 1.2 seconds RetCode: 1 Status: ERROR