Package: EpiCompare Version: 1.11.0 Command: /home/biocbuild/R/R/bin/R CMD build --keep-empty-dirs --no-resave-data EpiCompare StartedAt: 2025-01-28 22:42:22 -0000 (Tue, 28 Jan 2025) EndedAt: 2025-01-28 22:44:07 -0000 (Tue, 28 Jan 2025) EllapsedTime: 105.0 seconds RetCode: 0 Status: OK PackageFile: EpiCompare_1.11.0.tar.gz PackageFileSize: 1.944 MiB