Package: EpiCompare Version: 1.11.0 Command: /home/biocbuild/R/R/bin/R CMD check --install=check:EpiCompare.install-out.txt --library=/home/biocbuild/R/R/site-library --no-vignettes --timings EpiCompare_1.11.0.tar.gz StartedAt: 2025-01-28 10:19:01 -0000 (Tue, 28 Jan 2025) EndedAt: 2025-01-28 10:59:02 -0000 (Tue, 28 Jan 2025) EllapsedTime: 2400.5 seconds RetCode: None Status: TIMEOUT CheckDir: EpiCompare.Rcheck Warnings: NA