Package: EpiCompare Version: 1.11.0 Command: /Library/Frameworks/R.framework/Resources/bin/R CMD INSTALL EpiCompare StartedAt: 2025-02-09 15:34:15 -0500 (Sun, 09 Feb 2025) EndedAt: 2025-02-09 15:35:19 -0500 (Sun, 09 Feb 2025) EllapsedTime: 63.2 seconds RetCode: 0 Status: OK