Package: EpiCompare Version: 1.11.2 Command: chmod a+r EpiCompare -R && E:\biocbuild\bbs-3.21-bioc\R\bin\R.exe CMD build --keep-empty-dirs --no-resave-data EpiCompare StartedAt: 2025-02-12 18:37:08 -0500 (Wed, 12 Feb 2025) EndedAt: 2025-02-12 18:37:15 -0500 (Wed, 12 Feb 2025) EllapsedTime: 6.8 seconds RetCode: 1 Status: ERROR PackageFile: None PackageFileSize: NA