Package: EpiDISH Version: 2.23.1 Command: /Library/Frameworks/R.framework/Resources/bin/R CMD check --install=check:EpiDISH.install-out.txt --library=/Library/Frameworks/R.framework/Resources/library --no-vignettes --timings EpiDISH_2.23.1.tar.gz StartedAt: 2025-02-04 19:08:24 -0500 (Tue, 04 Feb 2025) EndedAt: 2025-02-04 19:08:46 -0500 (Tue, 04 Feb 2025) EllapsedTime: 22.3 seconds RetCode: 0 Status: OK CheckDir: EpiDISH.Rcheck Warnings: 0