Package: EpiDISH Version: 2.23.1 Command: /Library/Frameworks/R.framework/Resources/bin/R CMD check --install=check:EpiDISH.install-out.txt --library=/Library/Frameworks/R.framework/Resources/library --no-vignettes --timings EpiDISH_2.23.1.tar.gz StartedAt: 2025-02-09 20:32:11 -0500 (Sun, 09 Feb 2025) EndedAt: 2025-02-09 20:33:15 -0500 (Sun, 09 Feb 2025) EllapsedTime: 63.9 seconds RetCode: 0 Status: OK CheckDir: EpiDISH.Rcheck Warnings: 0