Package: EpiDISH Version: 2.23.1 Command: /home/biocbuild/bbs-3.21-bioc/R/bin/R CMD check --install=check:EpiDISH.install-out.txt --library=/home/biocbuild/bbs-3.21-bioc/R/site-library --timings EpiDISH_2.23.1.tar.gz StartedAt: 2025-02-09 22:03:56 -0500 (Sun, 09 Feb 2025) EndedAt: 2025-02-09 22:04:51 -0500 (Sun, 09 Feb 2025) EllapsedTime: 55.0 seconds RetCode: 0 Status: OK CheckDir: EpiDISH.Rcheck Warnings: 0