Package: EpiDISH Version: 2.23.1 Command: /home/biocbuild/bbs-3.21-bioc/R/bin/R CMD INSTALL EpiDISH StartedAt: 2025-02-09 15:05:54 -0500 (Sun, 09 Feb 2025) EndedAt: 2025-02-09 15:05:59 -0500 (Sun, 09 Feb 2025) EllapsedTime: 5.1 seconds RetCode: 0 Status: OK