Package: EpiDISH Version: 2.23.1 Command: rm -rf EpiDISH.buildbin-libdir && mkdir EpiDISH.buildbin-libdir && E:\biocbuild\bbs-3.21-bioc\R\bin\R.exe CMD INSTALL --build --library=EpiDISH.buildbin-libdir EpiDISH_2.23.1.tar.gz StartedAt: 2025-02-13 07:52:57 -0500 (Thu, 13 Feb 2025) EndedAt: 2025-02-13 07:53:12 -0500 (Thu, 13 Feb 2025) EllapsedTime: 14.4 seconds RetCode: 0 Status: OK PackageFile: EpiDISH_2.23.1.zip PackageFileSize: 2.107 MiB