Package: EpiDISH Version: 2.23.1 Command: chmod a+r EpiDISH -R && E:\biocbuild\bbs-3.21-bioc\R\bin\R.exe CMD build --keep-empty-dirs --no-resave-data EpiDISH StartedAt: 2025-02-12 18:37:16 -0500 (Wed, 12 Feb 2025) EndedAt: 2025-02-12 18:37:41 -0500 (Wed, 12 Feb 2025) EllapsedTime: 24.7 seconds RetCode: 0 Status: OK PackageFile: EpiDISH_2.23.1.tar.gz PackageFileSize: 3.094 MiB