Package: EpiDISH Version: 2.23.1 Command: E:\biocbuild\bbs-3.21-bioc\R\bin\R.exe CMD INSTALL EpiDISH StartedAt: 2025-02-09 15:26:47 -0500 (Sun, 09 Feb 2025) EndedAt: 2025-02-09 15:27:05 -0500 (Sun, 09 Feb 2025) EllapsedTime: 18.3 seconds RetCode: 0 Status: OK