Package: EpiMix Version: 1.9.0 Command: /home/biocbuild/R/R/bin/R CMD check --install=check:EpiMix.install-out.txt --library=/home/biocbuild/R/R/site-library --no-vignettes --timings EpiMix_1.9.0.tar.gz StartedAt: 2025-01-28 10:20:32 -0000 (Tue, 28 Jan 2025) EndedAt: 2025-01-28 10:31:11 -0000 (Tue, 28 Jan 2025) EllapsedTime: 638.7 seconds RetCode: 0 Status: WARNINGS CheckDir: EpiMix.Rcheck Warnings: 5